BEGIN:VCALENDAR
VERSION:2.0
PRODID:-//Vaclav Havel Center - ECPv6.15.20//NONSGML v1.0//EN
CALSCALE:GREGORIAN
METHOD:PUBLISH
X-WR-CALNAME:Vaclav Havel Center
X-ORIGINAL-URL:https://havelcenter.org
X-WR-CALDESC:Events for Vaclav Havel Center
REFRESH-INTERVAL;VALUE=DURATION:PT1H
X-Robots-Tag:noindex
X-PUBLISHED-TTL:PT1H
BEGIN:VTIMEZONE
TZID:UTC
BEGIN:STANDARD
TZOFFSETFROM:+0000
TZOFFSETTO:+0000
TZNAME:UTC
DTSTART:20250101T000000
END:STANDARD
END:VTIMEZONE
BEGIN:VEVENT
DTSTART;TZID=UTC:20260504T183000
DTEND;TZID=UTC:20260504T203000
DTSTAMP:20260420T084111
CREATED:20260410T154355Z
LAST-MODIFIED:20260410T154653Z
UID:994339-1777919400-1777926600@havelcenter.org
SUMMARY:Annual Václav Havel Lecture with economist and philosopher Tomáš Sedláček
DESCRIPTION:Vaclav Havel Center and Consulate General of the Czech Republic in New York present the\nAnnual Václav Havel Lecture 2026:\nVÁCLAV HAVEL’S THOUGHT AS AN INSPIRATION FOR TODAY\nwith economist and philosopher Tomáš Sedláček \nMonday\, May 4\, 2026\n6:30 p.m. – 8:30 p.m.\nBohemian National Hall\, New York City
URL:https://havelcenter.org/calendar/annual-vaclav-havel-lecture-with-economist-and-philosopher-tomas-sedlacek/
LOCATION:Bohemian National Hall\, 321 E 73rd St\, New York\, NY 10021\, United States
CATEGORIES:Annual Lecture
END:VEVENT
END:VCALENDAR